BEGIN:VCALENDAR
VERSION:2.0
PRODID:-//Sea to Sky Nordics - ECPv6.15.14//NONSGML v1.0//EN
CALSCALE:GREGORIAN
METHOD:PUBLISH
X-ORIGINAL-URL:https://seatoskynordics.ca
X-WR-CALDESC:Events for Sea to Sky Nordics
REFRESH-INTERVAL;VALUE=DURATION:PT1H
X-Robots-Tag:noindex
X-PUBLISHED-TTL:PT1H
BEGIN:VTIMEZONE
TZID:America/Vancouver
BEGIN:DAYLIGHT
TZOFFSETFROM:-0800
TZOFFSETTO:-0700
TZNAME:PDT
DTSTART:20240310T100000
END:DAYLIGHT
BEGIN:STANDARD
TZOFFSETFROM:-0700
TZOFFSETTO:-0800
TZNAME:PST
DTSTART:20241103T090000
END:STANDARD
BEGIN:DAYLIGHT
TZOFFSETFROM:-0800
TZOFFSETTO:-0700
TZNAME:PDT
DTSTART:20250309T100000
END:DAYLIGHT
BEGIN:STANDARD
TZOFFSETFROM:-0700
TZOFFSETTO:-0800
TZNAME:PST
DTSTART:20251102T090000
END:STANDARD
BEGIN:DAYLIGHT
TZOFFSETFROM:-0800
TZOFFSETTO:-0700
TZNAME:PDT
DTSTART:20260308T100000
END:DAYLIGHT
BEGIN:STANDARD
TZOFFSETFROM:-0700
TZOFFSETTO:-0800
TZNAME:PST
DTSTART:20261101T090000
END:STANDARD
END:VTIMEZONE
BEGIN:VEVENT
DTSTART;VALUE=DATE:20250118
DTEND;VALUE=DATE:20250119
DTSTAMP:20260423T041433
CREATED:20250106T041636Z
LAST-MODIFIED:20250106T041721Z
UID:2342-1737158400-1737244799@seatoskynordics.ca
SUMMARY:Cross Country: Teck Coast Cup #1
DESCRIPTION:Register by Wednesday\, January 15\, 2025 at 11:59 p.m. (midnight). Read the race notice.
URL:https://seatoskynordics.ca/event/cross-country-teck-coast-cup-1/
LOCATION:Whistler Olympic Park\, British Columbia
CATEGORIES:XC (home),Cross Country
END:VEVENT
BEGIN:VEVENT
DTSTART;TZID=America/Vancouver:20250119T120000
DTEND;TZID=America/Vancouver:20250119T130000
DTSTAMP:20260423T041433
CREATED:20250106T043150Z
LAST-MODIFIED:20250106T045220Z
UID:2348-1737288000-1737291600@seatoskynordics.ca
SUMMARY:Biathlon Invictus Test Event
DESCRIPTION:The Invictus Games and the Competition Committee need your help! Sea to Sky biathletes (and other visiting experienced biathletes) help the Committee assess procedures ahead of the Invictus Games in February. \nNote: All Invictus Games athletes\, including biathletes\, will be using classic skiing techniques. To ensure the Committee can fully benefit from this test event\, we kindly request that biathletes use classic skis if possible. Please note\, the course will also be groomed for skate technique.
URL:https://seatoskynordics.ca/event/biathlon-invictus-test-event/
LOCATION:British Columbia
CATEGORIES:Biathlon (home),Biathlon
END:VEVENT
BEGIN:VEVENT
DTSTART;VALUE=DATE:20250123
DTEND;VALUE=DATE:20250127
DTSTAMP:20260423T041433
CREATED:20240620T190957Z
LAST-MODIFIED:20241203T043137Z
UID:2045-1737590400-1737935999@seatoskynordics.ca
SUMMARY:2025 Western Canadian Biathlon Championships
DESCRIPTION:2025 Western Canadian Biathlon Championships \nJanuary 23-26\, 2025
URL:https://seatoskynordics.ca/event/2025-western-canadian-biathlon-championships/
LOCATION:Whistler Olympic Park\, British Columbia
CATEGORIES:Biathlon (home),Biathlon
END:VEVENT
END:VCALENDAR