BEGIN:VCALENDAR
VERSION:2.0
PRODID:-//Sea to Sky Nordics - ECPv6.15.14//NONSGML v1.0//EN
CALSCALE:GREGORIAN
METHOD:PUBLISH
X-WR-CALNAME:Sea to Sky Nordics
X-ORIGINAL-URL:https://seatoskynordics.ca
X-WR-CALDESC:Events for Sea to Sky Nordics
REFRESH-INTERVAL;VALUE=DURATION:PT1H
X-Robots-Tag:noindex
X-PUBLISHED-TTL:PT1H
BEGIN:VTIMEZONE
TZID:America/Vancouver
BEGIN:DAYLIGHT
TZOFFSETFROM:-0800
TZOFFSETTO:-0700
TZNAME:PDT
DTSTART:20230312T100000
END:DAYLIGHT
BEGIN:STANDARD
TZOFFSETFROM:-0700
TZOFFSETTO:-0800
TZNAME:PST
DTSTART:20231105T090000
END:STANDARD
BEGIN:DAYLIGHT
TZOFFSETFROM:-0800
TZOFFSETTO:-0700
TZNAME:PDT
DTSTART:20240310T100000
END:DAYLIGHT
BEGIN:STANDARD
TZOFFSETFROM:-0700
TZOFFSETTO:-0800
TZNAME:PST
DTSTART:20241103T090000
END:STANDARD
BEGIN:DAYLIGHT
TZOFFSETFROM:-0800
TZOFFSETTO:-0700
TZNAME:PDT
DTSTART:20250309T100000
END:DAYLIGHT
BEGIN:STANDARD
TZOFFSETFROM:-0700
TZOFFSETTO:-0800
TZNAME:PST
DTSTART:20251102T090000
END:STANDARD
END:VTIMEZONE
BEGIN:VEVENT
DTSTART;VALUE=DATE:20240301
DTEND;VALUE=DATE:20240304
DTSTAMP:20260423T181522
CREATED:20240209T210643Z
LAST-MODIFIED:20240227T061012Z
UID:1949-1709251200-1709510399@seatoskynordics.ca
SUMMARY:2024 Biathlon BC Championships
DESCRIPTION:2023/24 BIATHLON BC CHAMPIONSHIPS\nWhistler Olympic Park \nMarch 1-3\, 2024 \nRegister Here
URL:https://seatoskynordics.ca/event/biathlon-bc-championships/
LOCATION:Whistler Olympic Park\, British Columbia
CATEGORIES:Biathlon (home)
END:VEVENT
BEGIN:VEVENT
DTSTART;TZID=America/Vancouver:20240316T120000
DTEND;TZID=America/Vancouver:20240316T150000
DTSTAMP:20260423T181522
CREATED:20240228T205035Z
LAST-MODIFIED:20240228T205035Z
UID:1988-1710590400-1710601200@seatoskynordics.ca
SUMMARY:Biathlon Series - Public Event
DESCRIPTION:S2SN-PUBLIC Poster-Mar16
URL:https://seatoskynordics.ca/event/biathlon-series-public-event/
LOCATION:Whistler Olympic Park\, British Columbia
END:VEVENT
END:VCALENDAR