BEGIN:VCALENDAR
VERSION:2.0
PRODID:-//Sea to Sky Nordics - ECPv6.15.14//NONSGML v1.0//EN
CALSCALE:GREGORIAN
METHOD:PUBLISH
X-WR-CALNAME:Sea to Sky Nordics
X-ORIGINAL-URL:https://seatoskynordics.ca
X-WR-CALDESC:Events for Sea to Sky Nordics
REFRESH-INTERVAL;VALUE=DURATION:PT1H
X-Robots-Tag:noindex
X-PUBLISHED-TTL:PT1H
BEGIN:VTIMEZONE
TZID:America/Vancouver
BEGIN:DAYLIGHT
TZOFFSETFROM:-0800
TZOFFSETTO:-0700
TZNAME:PDT
DTSTART:20230312T100000
END:DAYLIGHT
BEGIN:STANDARD
TZOFFSETFROM:-0700
TZOFFSETTO:-0800
TZNAME:PST
DTSTART:20231105T090000
END:STANDARD
BEGIN:DAYLIGHT
TZOFFSETFROM:-0800
TZOFFSETTO:-0700
TZNAME:PDT
DTSTART:20240310T100000
END:DAYLIGHT
BEGIN:STANDARD
TZOFFSETFROM:-0700
TZOFFSETTO:-0800
TZNAME:PST
DTSTART:20241103T090000
END:STANDARD
BEGIN:DAYLIGHT
TZOFFSETFROM:-0800
TZOFFSETTO:-0700
TZNAME:PDT
DTSTART:20250309T100000
END:DAYLIGHT
BEGIN:STANDARD
TZOFFSETFROM:-0700
TZOFFSETTO:-0800
TZNAME:PST
DTSTART:20251102T090000
END:STANDARD
END:VTIMEZONE
BEGIN:VEVENT
DTSTART;TZID=America/Vancouver:20240224T080000
DTEND;TZID=America/Vancouver:20240229T193000
DTSTAMP:20260423T192619
CREATED:20240227T060330Z
LAST-MODIFIED:20240227T060803Z
UID:1963-1708761600-1709235000@seatoskynordics.ca
SUMMARY:Sea to Sky Nordics Biathlon Silent Auction Fundraiser
DESCRIPTION:Sea to Sky Nordics Biathlon Silent Auction Fundraiser\nThis fundraiser will support Sea to Sky Nordics in hosting Biathlon BC Championships at Whistler Olympic Park\, as well as to support the Sea to Sky Nordics biathlon program. \nhttps://www.32auctions.com/SeatoSkyNordics2024
URL:https://seatoskynordics.ca/event/sea-to-sky-nordics-biathlon-silent-auction-fundraiser/
LOCATION:British Columbia
END:VEVENT
END:VCALENDAR