BEGIN:VCALENDAR
VERSION:2.0
PRODID:-//Sea to Sky Nordics - ECPv6.15.14//NONSGML v1.0//EN
CALSCALE:GREGORIAN
METHOD:PUBLISH
X-ORIGINAL-URL:https://seatoskynordics.ca
X-WR-CALDESC:Events for Sea to Sky Nordics
REFRESH-INTERVAL;VALUE=DURATION:PT1H
X-Robots-Tag:noindex
X-PUBLISHED-TTL:PT1H
BEGIN:VTIMEZONE
TZID:America/Vancouver
BEGIN:DAYLIGHT
TZOFFSETFROM:-0800
TZOFFSETTO:-0700
TZNAME:PDT
DTSTART:20220313T100000
END:DAYLIGHT
BEGIN:STANDARD
TZOFFSETFROM:-0700
TZOFFSETTO:-0800
TZNAME:PST
DTSTART:20221106T090000
END:STANDARD
BEGIN:DAYLIGHT
TZOFFSETFROM:-0800
TZOFFSETTO:-0700
TZNAME:PDT
DTSTART:20230312T100000
END:DAYLIGHT
BEGIN:STANDARD
TZOFFSETFROM:-0700
TZOFFSETTO:-0800
TZNAME:PST
DTSTART:20231105T090000
END:STANDARD
BEGIN:DAYLIGHT
TZOFFSETFROM:-0800
TZOFFSETTO:-0700
TZNAME:PDT
DTSTART:20240310T100000
END:DAYLIGHT
BEGIN:STANDARD
TZOFFSETFROM:-0700
TZOFFSETTO:-0800
TZNAME:PST
DTSTART:20241103T090000
END:STANDARD
END:VTIMEZONE
BEGIN:VEVENT
DTSTART;TZID=America/Vancouver:20231231T090000
DTEND;TZID=America/Vancouver:20231231T120000
DTSTAMP:20260423T214616
CREATED:20231220T161212Z
LAST-MODIFIED:20240102T054032Z
UID:1910-1704013200-1704024000@seatoskynordics.ca
SUMMARY:Biathlon Series 1 - Club Regional Race
DESCRIPTION:Sprint Race for local biathletes registered in regional club programs. \nRegistration required. \n  \nRESULTS \n			\n				\n					\n						\n							\n							Loading...\n						\n					\n					\n						\n							\n							Taking too long?\n						\n						\n							\n								 Reload document							\n							|\n							\n								 Open in new tab							\n					\n				\n			\n		Download [101.73 KB]
URL:https://seatoskynordics.ca/event/biathlon-series-1-club-regional-race/
LOCATION:Whistler Olympic Park\, British Columbia
END:VEVENT
BEGIN:VEVENT
DTSTART;TZID=America/Vancouver:20231231T123000
DTEND;TZID=America/Vancouver:20231231T153000
DTSTAMP:20260423T214616
CREATED:20231220T155921Z
LAST-MODIFIED:20240101T063639Z
UID:1905-1704025800-1704036600@seatoskynordics.ca
SUMMARY:Biathlon Series 1 - Public Race
DESCRIPTION:Includes: \nSafety Orientation\, 2 practice shooting bouts\, 2 race shooting bouts. \nDistances: 3 x 500m\, 3 X 900m\, 3X 1.5km \nBib pick up 12:45 \nRifle Safety 1:00 \nRace Start 1:30 \nRegistration $20 Youth (u18)\, $25 Adults – includes Biathlon Day License \n \nRESULTS\n			\n				\n					\n						\n							\n							Loading...\n						\n					\n					\n						\n							\n							Taking too long?\n						\n						\n							\n								 Reload document							\n							|\n							\n								 Open in new tab							\n					\n				\n			\n		Download [29.17 KB]
URL:https://seatoskynordics.ca/event/biathlon-series-1/
LOCATION:Whistler Olympic Park\, British Columbia
END:VEVENT
END:VCALENDAR