BEGIN:VCALENDAR
VERSION:2.0
PRODID:-//Sea to Sky Nordics - ECPv6.15.14//NONSGML v1.0//EN
CALSCALE:GREGORIAN
METHOD:PUBLISH
X-ORIGINAL-URL:https://seatoskynordics.ca
X-WR-CALDESC:Events for Sea to Sky Nordics
REFRESH-INTERVAL;VALUE=DURATION:PT1H
X-Robots-Tag:noindex
X-PUBLISHED-TTL:PT1H
BEGIN:VTIMEZONE
TZID:America/Vancouver
BEGIN:DAYLIGHT
TZOFFSETFROM:-0800
TZOFFSETTO:-0700
TZNAME:PDT
DTSTART:20220313T100000
END:DAYLIGHT
BEGIN:STANDARD
TZOFFSETFROM:-0700
TZOFFSETTO:-0800
TZNAME:PST
DTSTART:20221106T090000
END:STANDARD
BEGIN:DAYLIGHT
TZOFFSETFROM:-0800
TZOFFSETTO:-0700
TZNAME:PDT
DTSTART:20230312T100000
END:DAYLIGHT
BEGIN:STANDARD
TZOFFSETFROM:-0700
TZOFFSETTO:-0800
TZNAME:PST
DTSTART:20231105T090000
END:STANDARD
BEGIN:DAYLIGHT
TZOFFSETFROM:-0800
TZOFFSETTO:-0700
TZNAME:PDT
DTSTART:20240310T100000
END:DAYLIGHT
BEGIN:STANDARD
TZOFFSETFROM:-0700
TZOFFSETTO:-0800
TZNAME:PST
DTSTART:20241103T090000
END:STANDARD
END:VTIMEZONE
BEGIN:VEVENT
DTSTART;VALUE=DATE:20230128
DTEND;VALUE=DATE:20230206
DTSTAMP:20260424T101303
CREATED:20221007T210518Z
LAST-MODIFIED:20221007T210518Z
UID:1464-1674864000-1675641599@seatoskynordics.ca
SUMMARY:FIS World Juniors U23 - Whistler Olympic Park
DESCRIPTION:FIS World Juniors U23 \nLocation: Whistler Olympic Park \nDates: Jan 28th to Feb 5th\, 2023
URL:https://seatoskynordics.ca/event/fis-world-juniors-u23-whistler-olympic-park/
LOCATION:Whistler Olympic Park\, British Columbia
CATEGORIES:Cross Country
END:VEVENT
BEGIN:VEVENT
DTSTART;VALUE=DATE:20230210
DTEND;VALUE=DATE:20230213
DTSTAMP:20260424T101303
CREATED:20221007T205142Z
LAST-MODIFIED:20221007T205142Z
UID:1445-1675987200-1676246399@seatoskynordics.ca
SUMMARY:Biathlon BC Cup 2  - Whistler Olympic Park
DESCRIPTION:Biathlon BC Cup 2\nLocation: Whistler Olympic Park \nDates: Feb 10th to 12th\, 2023
URL:https://seatoskynordics.ca/event/biathlon-bc-cup-2-whistler-olympic-park/
LOCATION:Whistler Olympic Park\, British Columbia
CATEGORIES:Biathlon
END:VEVENT
BEGIN:VEVENT
DTSTART;VALUE=DATE:20230211
DTEND;VALUE=DATE:20230213
DTSTAMP:20260424T101303
CREATED:20221007T204447Z
LAST-MODIFIED:20221007T204447Z
UID:1437-1676073600-1676246399@seatoskynordics.ca
SUMMARY:Teck Coast Cup 2 & 3 - Mt Washington
DESCRIPTION:Teck Coast Cup 2 & 3\nLocation: Mt Washington  \nDates: February 11th & 12th\, 2023
URL:https://seatoskynordics.ca/event/teck-coast-cup-2-3-mt-washington/
LOCATION:British Columbia
CATEGORIES:Cross Country
END:VEVENT
BEGIN:VEVENT
DTSTART;VALUE=DATE:20230218
DTEND;VALUE=DATE:20230220
DTSTAMP:20260424T101303
CREATED:20221007T210352Z
LAST-MODIFIED:20221007T210352Z
UID:1462-1676678400-1676851199@seatoskynordics.ca
SUMMARY:XC BC Cup 2 - Revelstoke
DESCRIPTION:XC BC Cup 2 \nLocation: Revelstoke \nDates: Feb 18th to 19th\, 2023
URL:https://seatoskynordics.ca/event/xc-bc-cup-2-revelstoke/
LOCATION:British Columbia
CATEGORIES:Cross Country
END:VEVENT
BEGIN:VEVENT
DTSTART;VALUE=DATE:20230219
DTEND;VALUE=DATE:20230220
DTSTAMP:20260424T101303
CREATED:20221007T204732Z
LAST-MODIFIED:20221007T204732Z
UID:1441-1676764800-1676851199@seatoskynordics.ca
SUMMARY:Spud Valley Loppet
DESCRIPTION:Spud Valley Loppet\nLocation: Pemberton \nDates: February 19th\, 2023
URL:https://seatoskynordics.ca/event/spud-valley-loppet-2/
LOCATION:British Columbia
CATEGORIES:Cross Country
END:VEVENT
BEGIN:VEVENT
DTSTART;VALUE=DATE:20230224
DTEND;VALUE=DATE:20230227
DTSTAMP:20260424T101303
CREATED:20221007T205300Z
LAST-MODIFIED:20221007T205300Z
UID:1447-1677196800-1677455999@seatoskynordics.ca
SUMMARY:Biathlon BC Champs - Prince George
DESCRIPTION:Biathlon BC Champs\nLocation: Prince George \nDates: Feb 24th to 26th\, 2023
URL:https://seatoskynordics.ca/event/biathlon-bc-champs-prince-george/
LOCATION:Whistler Olympic Park\, British Columbia
CATEGORIES:Biathlon
END:VEVENT
BEGIN:VEVENT
DTSTART;VALUE=DATE:20230225
DTEND;VALUE=DATE:20230226
DTSTAMP:20260424T101303
CREATED:20221007T210147Z
LAST-MODIFIED:20221007T210147Z
UID:1459-1677283200-1677369599@seatoskynordics.ca
SUMMARY:Payak
DESCRIPTION:Payak \nLocation: Whistler Olympic Park \nDates: Feb 25th\, 2023
URL:https://seatoskynordics.ca/event/payak-2/
LOCATION:Whistler Olympic Park\, British Columbia
CATEGORIES:Cross Country
END:VEVENT
END:VCALENDAR