BEGIN:VCALENDAR
VERSION:2.0
PRODID:-//Sea to Sky Nordics - ECPv6.15.14//NONSGML v1.0//EN
CALSCALE:GREGORIAN
METHOD:PUBLISH
X-ORIGINAL-URL:https://seatoskynordics.ca
X-WR-CALDESC:Events for Sea to Sky Nordics
REFRESH-INTERVAL;VALUE=DURATION:PT1H
X-Robots-Tag:noindex
X-PUBLISHED-TTL:PT1H
BEGIN:VTIMEZONE
TZID:America/Vancouver
BEGIN:DAYLIGHT
TZOFFSETFROM:-0800
TZOFFSETTO:-0700
TZNAME:PDT
DTSTART:20220313T100000
END:DAYLIGHT
BEGIN:STANDARD
TZOFFSETFROM:-0700
TZOFFSETTO:-0800
TZNAME:PST
DTSTART:20221106T090000
END:STANDARD
BEGIN:DAYLIGHT
TZOFFSETFROM:-0800
TZOFFSETTO:-0700
TZNAME:PDT
DTSTART:20230312T100000
END:DAYLIGHT
BEGIN:STANDARD
TZOFFSETFROM:-0700
TZOFFSETTO:-0800
TZNAME:PST
DTSTART:20231105T090000
END:STANDARD
BEGIN:DAYLIGHT
TZOFFSETFROM:-0800
TZOFFSETTO:-0700
TZNAME:PDT
DTSTART:20240310T100000
END:DAYLIGHT
BEGIN:STANDARD
TZOFFSETFROM:-0700
TZOFFSETTO:-0800
TZNAME:PST
DTSTART:20241103T090000
END:STANDARD
END:VTIMEZONE
BEGIN:VEVENT
DTSTART;VALUE=DATE:20230107
DTEND;VALUE=DATE:20230109
DTSTAMP:20260424T113139
CREATED:20221007T204218Z
LAST-MODIFIED:20221007T204218Z
UID:1435-1673049600-1673222399@seatoskynordics.ca
SUMMARY:XC BC Cup 1 (CWG Trials) - Whistler Olympic Park
DESCRIPTION:XC BC Cup 1 (CWG Trials)\nLocation: Whistler Olympic Park \nDates: Jan 7th & 8th\, 2023
URL:https://seatoskynordics.ca/event/xc-bc-cup-1-cwg-trials-whistler-olympic-park/
LOCATION:Whistler Olympic Park\, British Columbia
CATEGORIES:Cross Country
END:VEVENT
BEGIN:VEVENT
DTSTART;VALUE=DATE:20230128
DTEND;VALUE=DATE:20230130
DTSTAMP:20260424T113139
CREATED:20221007T204616Z
LAST-MODIFIED:20221007T204616Z
UID:1439-1674864000-1675036799@seatoskynordics.ca
SUMMARY:Track Attack Champs - Salmon Arm
DESCRIPTION:Track Attack Champs\nLocation: Salmon Arm  \nDates: January 28th & 29th\, 2023
URL:https://seatoskynordics.ca/event/track-attack-champs-salmon-arm/
LOCATION:Salmon Arm
CATEGORIES:Cross Country
END:VEVENT
BEGIN:VEVENT
DTSTART;VALUE=DATE:20230128
DTEND;VALUE=DATE:20230206
DTSTAMP:20260424T113139
CREATED:20221007T210518Z
LAST-MODIFIED:20221007T210518Z
UID:1464-1674864000-1675641599@seatoskynordics.ca
SUMMARY:FIS World Juniors U23 - Whistler Olympic Park
DESCRIPTION:FIS World Juniors U23 \nLocation: Whistler Olympic Park \nDates: Jan 28th to Feb 5th\, 2023
URL:https://seatoskynordics.ca/event/fis-world-juniors-u23-whistler-olympic-park/
LOCATION:Whistler Olympic Park\, British Columbia
CATEGORIES:Cross Country
END:VEVENT
END:VCALENDAR