BEGIN:VCALENDAR
VERSION:2.0
PRODID:-//Sea to Sky Nordics - ECPv6.15.14//NONSGML v1.0//EN
CALSCALE:GREGORIAN
METHOD:PUBLISH
X-WR-CALNAME:Sea to Sky Nordics
X-ORIGINAL-URL:https://seatoskynordics.ca
X-WR-CALDESC:Events for Sea to Sky Nordics
REFRESH-INTERVAL;VALUE=DURATION:PT1H
X-Robots-Tag:noindex
X-PUBLISHED-TTL:PT1H
BEGIN:VTIMEZONE
TZID:America/Vancouver
BEGIN:DAYLIGHT
TZOFFSETFROM:-0800
TZOFFSETTO:-0700
TZNAME:PDT
DTSTART:20210314T100000
END:DAYLIGHT
BEGIN:STANDARD
TZOFFSETFROM:-0700
TZOFFSETTO:-0800
TZNAME:PST
DTSTART:20211107T090000
END:STANDARD
BEGIN:DAYLIGHT
TZOFFSETFROM:-0800
TZOFFSETTO:-0700
TZNAME:PDT
DTSTART:20220313T100000
END:DAYLIGHT
BEGIN:STANDARD
TZOFFSETFROM:-0700
TZOFFSETTO:-0800
TZNAME:PST
DTSTART:20221106T090000
END:STANDARD
BEGIN:DAYLIGHT
TZOFFSETFROM:-0800
TZOFFSETTO:-0700
TZNAME:PDT
DTSTART:20230312T100000
END:DAYLIGHT
BEGIN:STANDARD
TZOFFSETFROM:-0700
TZOFFSETTO:-0800
TZNAME:PST
DTSTART:20231105T090000
END:STANDARD
END:VTIMEZONE
BEGIN:VEVENT
DTSTART;VALUE=DATE:20221216
DTEND;VALUE=DATE:20221219
DTSTAMP:20260424T130318
CREATED:20221007T203039Z
LAST-MODIFIED:20221007T203039Z
UID:1408-1671148800-1671407999@seatoskynordics.ca
SUMMARY:Biathlon BC Cup 1  - Mt Washington
DESCRIPTION:Biathlon BC Cup 1\nLocation: Mt Washington\, BC \nDates: December 16th to 18th\, 2022
URL:https://seatoskynordics.ca/event/biathlon-bc-cup-1-mt-washington/
LOCATION:British Columbia
CATEGORIES:Biathlon
END:VEVENT
BEGIN:VEVENT
DTSTART;VALUE=DATE:20221218
DTEND;VALUE=DATE:20221219
DTSTAMP:20260424T130318
CREATED:20221007T203526Z
LAST-MODIFIED:20221215T002655Z
UID:1431-1671321600-1671407999@seatoskynordics.ca
SUMMARY:Teck Coast Cup 1 - Whistler Olympic Park
DESCRIPTION:Teck Coast Cup 1\nLocation: Whistler Olympic Park \nDate: December 18th\, 2022
URL:https://seatoskynordics.ca/event/teck-coast-cup-1-whistler-olympic-park/
LOCATION:Whistler Olympic Park\, British Columbia
CATEGORIES:Cross Country
END:VEVENT
BEGIN:VEVENT
DTSTART;VALUE=DATE:20221231
DTEND;VALUE=DATE:20230101
DTSTAMP:20260424T130318
CREATED:20221007T205006Z
LAST-MODIFIED:20221215T002536Z
UID:1443-1672444800-1672531199@seatoskynordics.ca
SUMMARY:Biathlon Series 1 - Whistler Olympic Park
DESCRIPTION:Biathlon Series 1\nLocation: Whistler Olympic Park \nDate: December 31st\, 2022 \n \nRegistration for Club: https://zone4.ca/register.asp?id=30693\nRegistration for Public: https://zone4.ca/register.asp?id=30694 \nClub Categories:\nZero 9\nStart 10 \nPublic Categories:\nBib pick up noon\nRifle and range safety 12:30\nStart 1:15
URL:https://seatoskynordics.ca/event/biathlon-series-1-whistler-olympic-park/
LOCATION:Whistler Olympic Park\, British Columbia
CATEGORIES:Biathlon
END:VEVENT
END:VCALENDAR