BEGIN:VCALENDAR
VERSION:2.0
PRODID:-//Sea to Sky Nordics - ECPv6.15.14//NONSGML v1.0//EN
CALSCALE:GREGORIAN
METHOD:PUBLISH
X-WR-CALNAME:Sea to Sky Nordics
X-ORIGINAL-URL:https://seatoskynordics.ca
X-WR-CALDESC:Events for Sea to Sky Nordics
REFRESH-INTERVAL;VALUE=DURATION:PT1H
X-Robots-Tag:noindex
X-PUBLISHED-TTL:PT1H
BEGIN:VTIMEZONE
TZID:America/Vancouver
BEGIN:DAYLIGHT
TZOFFSETFROM:-0800
TZOFFSETTO:-0700
TZNAME:PDT
DTSTART:20210314T100000
END:DAYLIGHT
BEGIN:STANDARD
TZOFFSETFROM:-0700
TZOFFSETTO:-0800
TZNAME:PST
DTSTART:20211107T090000
END:STANDARD
BEGIN:DAYLIGHT
TZOFFSETFROM:-0800
TZOFFSETTO:-0700
TZNAME:PDT
DTSTART:20220313T100000
END:DAYLIGHT
BEGIN:STANDARD
TZOFFSETFROM:-0700
TZOFFSETTO:-0800
TZNAME:PST
DTSTART:20221106T090000
END:STANDARD
BEGIN:DAYLIGHT
TZOFFSETFROM:-0800
TZOFFSETTO:-0700
TZNAME:PDT
DTSTART:20230312T100000
END:DAYLIGHT
BEGIN:STANDARD
TZOFFSETFROM:-0700
TZOFFSETTO:-0800
TZNAME:PST
DTSTART:20231105T090000
END:STANDARD
BEGIN:DAYLIGHT
TZOFFSETFROM:-0800
TZOFFSETTO:-0700
TZNAME:PDT
DTSTART:20240310T100000
END:DAYLIGHT
BEGIN:STANDARD
TZOFFSETFROM:-0700
TZOFFSETTO:-0800
TZNAME:PST
DTSTART:20241103T090000
END:STANDARD
BEGIN:DAYLIGHT
TZOFFSETFROM:-0800
TZOFFSETTO:-0700
TZNAME:PDT
DTSTART:20250309T100000
END:DAYLIGHT
BEGIN:STANDARD
TZOFFSETFROM:-0700
TZOFFSETTO:-0800
TZNAME:PST
DTSTART:20251102T090000
END:STANDARD
BEGIN:DAYLIGHT
TZOFFSETFROM:-0800
TZOFFSETTO:-0700
TZNAME:PDT
DTSTART:20260308T100000
END:DAYLIGHT
BEGIN:STANDARD
TZOFFSETFROM:-0700
TZOFFSETTO:-0800
TZNAME:PST
DTSTART:20261101T090000
END:STANDARD
BEGIN:DAYLIGHT
TZOFFSETFROM:-0800
TZOFFSETTO:-0700
TZNAME:PDT
DTSTART:20270314T100000
END:DAYLIGHT
BEGIN:STANDARD
TZOFFSETFROM:-0700
TZOFFSETTO:-0800
TZNAME:PST
DTSTART:20271107T090000
END:STANDARD
END:VTIMEZONE
BEGIN:VEVENT
DTSTART;VALUE=DATE:20260114
DTEND;VALUE=DATE:20260119
DTSTAMP:20260422T113533
CREATED:20251222T040844Z
LAST-MODIFIED:20251222T040844Z
UID:2849-1768348800-1768780799@seatoskynordics.ca
SUMMARY:Biathlon volunteers wanted for the Youth & Junior World Championships Trials
DESCRIPTION:Volunteer at at the Youth & Junior Trials\, January 14-18\, 2026. Get close to the action. Register today.
URL:https://seatoskynordics.ca/event/2026-biathlon-canada-youth-junior-world-championships-trials-volunteer/
LOCATION:Whistler Olympic Park\, British Columbia
CATEGORIES:Biathlon (home),Biathlon
END:VEVENT
BEGIN:VEVENT
DTSTART;VALUE=DATE:20260114
DTEND;VALUE=DATE:20260119
DTSTAMP:20260422T113533
CREATED:20251114T214727Z
LAST-MODIFIED:20251222T040447Z
UID:2323-1768348800-1768780799@seatoskynordics.ca
SUMMARY:2026 Biathlon Canada Youth & Junior World Championships Trials
DESCRIPTION:Join us at the 2026 Biathlon Canada Youth & Junior World Championships Trials at Whistler Olympic Park. January 14-18\, 2026
URL:https://seatoskynordics.ca/event/2026-january-trials/
LOCATION:Whistler Olympic Park\, British Columbia
CATEGORIES:Biathlon (home),Biathlon
END:VEVENT
BEGIN:VEVENT
DTSTART;VALUE=DATE:20250906
DTEND;VALUE=DATE:20250908
DTSTAMP:20260422T113533
CREATED:20250806T205859Z
LAST-MODIFIED:20250806T213309Z
UID:2587-1757116800-1757289599@seatoskynordics.ca
SUMMARY:NorAm Summer Cup 2025
DESCRIPTION:IBU Regional Event –\nNorAm Summer Cup \nWhistler Olympic Park\nSeptember 6-7\, 2025
URL:https://seatoskynordics.ca/event/noram-summer-cup-2025/
LOCATION:Whistler Olympic Park\, British Columbia
CATEGORIES:Biathlon (home),Biathlon
END:VEVENT
BEGIN:VEVENT
DTSTART;VALUE=DATE:20250123
DTEND;VALUE=DATE:20250127
DTSTAMP:20260422T113533
CREATED:20240620T190957Z
LAST-MODIFIED:20241203T043137Z
UID:2045-1737590400-1737935999@seatoskynordics.ca
SUMMARY:2025 Western Canadian Biathlon Championships
DESCRIPTION:2025 Western Canadian Biathlon Championships \nJanuary 23-26\, 2025
URL:https://seatoskynordics.ca/event/2025-western-canadian-biathlon-championships/
LOCATION:Whistler Olympic Park\, British Columbia
CATEGORIES:Biathlon (home),Biathlon
END:VEVENT
BEGIN:VEVENT
DTSTART;TZID=America/Vancouver:20250119T120000
DTEND;TZID=America/Vancouver:20250119T130000
DTSTAMP:20260422T113533
CREATED:20250106T043150Z
LAST-MODIFIED:20250106T045220Z
UID:2348-1737288000-1737291600@seatoskynordics.ca
SUMMARY:Biathlon Invictus Test Event
DESCRIPTION:The Invictus Games and the Competition Committee need your help! Sea to Sky biathletes (and other visiting experienced biathletes) help the Committee assess procedures ahead of the Invictus Games in February. \nNote: All Invictus Games athletes\, including biathletes\, will be using classic skiing techniques. To ensure the Committee can fully benefit from this test event\, we kindly request that biathletes use classic skis if possible. Please note\, the course will also be groomed for skate technique.
URL:https://seatoskynordics.ca/event/biathlon-invictus-test-event/
LOCATION:British Columbia
CATEGORIES:Biathlon (home),Biathlon
END:VEVENT
BEGIN:VEVENT
DTSTART;VALUE=DATE:20240824
DTEND;VALUE=DATE:20240826
DTSTAMP:20260422T113533
CREATED:20240620T190725Z
LAST-MODIFIED:20240620T193241Z
UID:2043-1724457600-1724630399@seatoskynordics.ca
SUMMARY:NorAm Summer Cup Biathlon Event
DESCRIPTION:NorAm Summer Cup Biathlon Event \nAugust 24-25\, 2024
URL:https://seatoskynordics.ca/event/noram-summer-cup-biathlon-event/
LOCATION:Whistler Olympic Park\, British Columbia
CATEGORIES:Biathlon (home),Biathlon
END:VEVENT
BEGIN:VEVENT
DTSTART;VALUE=DATE:20230323
DTEND;VALUE=DATE:20230327
DTSTAMP:20260422T113533
CREATED:20221007T205829Z
LAST-MODIFIED:20221007T205829Z
UID:1455-1679529600-1679875199@seatoskynordics.ca
SUMMARY:BC Winter Games - Vernon
DESCRIPTION:BC Winter Games\nLocation: Vernon\, BC \nDates: March 23rd to 26th\, 2023
URL:https://seatoskynordics.ca/event/bc-winter-games-vernon/
LOCATION:Vernon\, BC
CATEGORIES:Cross Country,Biathlon
END:VEVENT
BEGIN:VEVENT
DTSTART;VALUE=DATE:20230315
DTEND;VALUE=DATE:20230323
DTSTAMP:20260422T113533
CREATED:20221007T205646Z
LAST-MODIFIED:20221007T205646Z
UID:1453-1678838400-1679529599@seatoskynordics.ca
SUMMARY:Biathlon National Champs - Valcartier
DESCRIPTION:Biathlon National Champs\nLocation: Valcartier \nDates: March 15th – 22nd\, 2023
URL:https://seatoskynordics.ca/event/biathlon-national-champs-valcartier/
LOCATION:British Columbia
CATEGORIES:Biathlon
END:VEVENT
BEGIN:VEVENT
DTSTART;VALUE=DATE:20230310
DTEND;VALUE=DATE:20230313
DTSTAMP:20260422T113533
CREATED:20221007T205546Z
LAST-MODIFIED:20221007T205546Z
UID:1451-1678406400-1678665599@seatoskynordics.ca
SUMMARY:Biathlon U13 Champs -  West Kelowna
DESCRIPTION:Biathlon U13 Champs\nLocation: West Kelowna \nDates: March 10th – 12th\, 2023
URL:https://seatoskynordics.ca/event/biathlon-u13-champs-west-kelowna/
LOCATION:British Columbia
CATEGORIES:Biathlon
END:VEVENT
BEGIN:VEVENT
DTSTART;VALUE=DATE:20230305
DTEND;VALUE=DATE:20230306
DTSTAMP:20260422T113533
CREATED:20221007T205411Z
LAST-MODIFIED:20230307T173755Z
UID:1449-1677974400-1678060799@seatoskynordics.ca
SUMMARY:Biathlon Series 2 - Whistler Olympic Park
DESCRIPTION:Biathlon Series 2\nLocation: Whistler Olympic Park \nDates: March 5th\, 2023 \n \nClub Categories:\nhttps://zone4.ca/register.asp?id=31548\nZero 9am\nStart 10am\nClick here for results \nPublic Categories:\nhttps://zone4.ca/register.asp?id=31546\nBib pick up\n12:45-13:00\nRange safety\n13:00-13:30\nRace\n13:30 \nRESULTS:\n			\n				\n					\n						\n							\n							Loading...\n						\n					\n					\n						\n							\n							Taking too long?\n						\n						\n							\n								 Reload document							\n							|\n							\n								 Open in new tab
URL:https://seatoskynordics.ca/event/biathlon-series-2-whistler-olympic-park/
LOCATION:Whistler Olympic Park\, British Columbia
CATEGORIES:Biathlon
END:VEVENT
BEGIN:VEVENT
DTSTART;VALUE=DATE:20230224
DTEND;VALUE=DATE:20230227
DTSTAMP:20260422T113533
CREATED:20221007T205300Z
LAST-MODIFIED:20221007T205300Z
UID:1447-1677196800-1677455999@seatoskynordics.ca
SUMMARY:Biathlon BC Champs - Prince George
DESCRIPTION:Biathlon BC Champs\nLocation: Prince George \nDates: Feb 24th to 26th\, 2023
URL:https://seatoskynordics.ca/event/biathlon-bc-champs-prince-george/
LOCATION:Whistler Olympic Park\, British Columbia
CATEGORIES:Biathlon
END:VEVENT
BEGIN:VEVENT
DTSTART;VALUE=DATE:20230210
DTEND;VALUE=DATE:20230213
DTSTAMP:20260422T113533
CREATED:20221007T205142Z
LAST-MODIFIED:20221007T205142Z
UID:1445-1675987200-1676246399@seatoskynordics.ca
SUMMARY:Biathlon BC Cup 2  - Whistler Olympic Park
DESCRIPTION:Biathlon BC Cup 2\nLocation: Whistler Olympic Park \nDates: Feb 10th to 12th\, 2023
URL:https://seatoskynordics.ca/event/biathlon-bc-cup-2-whistler-olympic-park/
LOCATION:Whistler Olympic Park\, British Columbia
CATEGORIES:Biathlon
END:VEVENT
BEGIN:VEVENT
DTSTART;VALUE=DATE:20221231
DTEND;VALUE=DATE:20230101
DTSTAMP:20260422T113533
CREATED:20221007T205006Z
LAST-MODIFIED:20221215T002536Z
UID:1443-1672444800-1672531199@seatoskynordics.ca
SUMMARY:Biathlon Series 1 - Whistler Olympic Park
DESCRIPTION:Biathlon Series 1\nLocation: Whistler Olympic Park \nDate: December 31st\, 2022 \n \nRegistration for Club: https://zone4.ca/register.asp?id=30693\nRegistration for Public: https://zone4.ca/register.asp?id=30694 \nClub Categories:\nZero 9\nStart 10 \nPublic Categories:\nBib pick up noon\nRifle and range safety 12:30\nStart 1:15
URL:https://seatoskynordics.ca/event/biathlon-series-1-whistler-olympic-park/
LOCATION:Whistler Olympic Park\, British Columbia
CATEGORIES:Biathlon
END:VEVENT
BEGIN:VEVENT
DTSTART;VALUE=DATE:20221216
DTEND;VALUE=DATE:20221219
DTSTAMP:20260422T113533
CREATED:20221007T203039Z
LAST-MODIFIED:20221007T203039Z
UID:1408-1671148800-1671407999@seatoskynordics.ca
SUMMARY:Biathlon BC Cup 1  - Mt Washington
DESCRIPTION:Biathlon BC Cup 1\nLocation: Mt Washington\, BC \nDates: December 16th to 18th\, 2022
URL:https://seatoskynordics.ca/event/biathlon-bc-cup-1-mt-washington/
LOCATION:British Columbia
CATEGORIES:Biathlon
END:VEVENT
END:VCALENDAR